BEGIN:VCALENDAR
VERSION:2.0
PRODID:-//The Nebraska Boys - ECPv6.15.20//NONSGML v1.0//EN
CALSCALE:GREGORIAN
METHOD:PUBLISH
X-WR-CALNAME:The Nebraska Boys
X-ORIGINAL-URL:https://nebraskaboys.com
X-WR-CALDESC:Events for The Nebraska Boys
REFRESH-INTERVAL;VALUE=DURATION:PT1H
X-Robots-Tag:noindex
X-PUBLISHED-TTL:PT1H
BEGIN:VTIMEZONE
TZID:UTC
BEGIN:STANDARD
TZOFFSETFROM:+0000
TZOFFSETTO:+0000
TZNAME:UTC
DTSTART:20230101T000000
END:STANDARD
END:VTIMEZONE
BEGIN:VEVENT
DTSTART;TZID=UTC:20240711T180000
DTEND;TZID=UTC:20240711T200000
DTSTAMP:20260424T233410
CREATED:20240524T170313Z
LAST-MODIFIED:20240524T170924Z
UID:86-1720720800-1720728000@nebraskaboys.com
SUMMARY:Fossil Creek Food Truck Rally
DESCRIPTION:Fossil Creek Food Truck Rally is Thursday nights all summer long! Come enjoy good food with us!
URL:https://nebraskaboys.com/event/fossil-creek-food-truck-rally/
LOCATION:Fossil Creek Food Truck Rally\, 5821 S Lemay Ave\, Fort Collins\, CO\, 80525
ATTACH;FMTTYPE=image/jpeg:https://nebraskaboys.com/wp-content/uploads/2024/05/Mando.jpg
END:VEVENT
END:VCALENDAR